BEGIN:VCALENDAR
VERSION:2.0
PRODID:-//TYPO3/NONSGML News system (news)//EN
BEGIN:VEVENT
TZID:Central Europe Standard Time
UID:news-62966@www.tu-dortmund.de
DTSTAMP:20260420T105011Z

DTSTART:20260424T123000
DTEND:20260424T160000


LOCATION:Room will be provided after registration.

DESCRIPTION:https://www.tu-dortmund.de/veranstaltungsdetail/power-study-group-62966/
SUMMARY:Power Study Group
END:VEVENT
END:VCALENDAR
