BEGIN:VCALENDAR
VERSION:2.0
PRODID:-//TYPO3/NONSGML News system (news)//EN
BEGIN:VEVENT
TZID:Central Europe Standard Time
UID:news-62853@www.tu-dortmund.de
DTSTAMP:20260416T130251Z

DTSTART:20260423T160000
DTEND:20260423T183000


LOCATION:Campus Stadt der TU Dortmund im Dortmunder U, Leonie-Reygers-Terrasse, 44137 Dortmund

DESCRIPTION:https://www.tu-dortmund.de/veranstaltungsdetail/mappenberatung-fuer-die-bewerbung-zum-lehramtsstudium-kunst-62853/
SUMMARY:Mappenberatung für die Bewerbung zum Lehramtsstudium Kunst
END:VEVENT
END:VCALENDAR
