BEGIN:VCALENDAR
VERSION:2.0
PRODID:-//TYPO3/NONSGML News system (news)//EN
BEGIN:VEVENT
TZID:Central Europe Standard Time
UID:news-2778@www.tu-dortmund.de
DTSTAMP:20200421T125655Z

DTSTART:20200508T200000
DTEND:20200508T200000


LOCATION:Hochschule für Musik und Tanz, Köln

DESCRIPTION:https://www.tu-dortmund.de/veranstaltungsdetail/jazz-word-minimal-2778/
SUMMARY:Jazz, Word, Minimal
END:VEVENT
END:VCALENDAR
