BEGIN:VCALENDAR
VERSION:2.0
PRODID:-//TYPO3/NONSGML News system (news)//EN
BEGIN:VEVENT
TZID:Central Europe Standard Time
UID:news-36071@www.tu-dortmund.de
DTSTAMP:20231018T112103Z

DTSTART:20231030T123000
DTEND:20231030T163000


LOCATION:HyLeC, Containerbau, Joseph-von-Fraunhofer-Str. 18, 44227 Dortmund

DESCRIPTION:https://www.tu-dortmund.de/veranstaltungsdetail/3d-druck-easy-start-3-36071/
SUMMARY:3D-Druck – Easy Start
END:VEVENT
END:VCALENDAR
