BEGIN:VCALENDAR
VERSION:2.0
PRODID:-//TYPO3/NONSGML News system (news)//EN
BEGIN:VEVENT
TZID:Central Europe Standard Time
UID:news-63125@www.tu-dortmund.de
DTSTAMP:20260424T083459Z

DTSTART:20260708T171500
DTEND:20260708T184500


LOCATION:Campus Stadt der Technischen Universität Dortmund im Dortmunder U, Leonie-Reygers-Terrasse, 44137 Dortmund

DESCRIPTION:https://www.tu-dortmund.de/veranstaltungsdetail/xpositionen-07-2026-63125/
SUMMARY:Creative Mediator zur Geschichte der »Gastarbeiter:innen«. Über die kuratorische Arbeit an der Manifesta 16 in Gelsenkirchen
END:VEVENT
END:VCALENDAR
