BEGIN:VCALENDAR
VERSION:2.0
PRODID:-//TYPO3/NONSGML News system (news)//EN
BEGIN:VEVENT
TZID:Central Europe Standard Time
UID:news-63122@www.tu-dortmund.de
DTSTAMP:20260424T083500Z

DTSTART:20260617T171500
DTEND:20260617T184500


LOCATION:Campus Stadt der Technischen Universität Dortmund im Dortmunder U, Leonie-Reygers-Terrasse, 44137 Dortmund

DESCRIPTION:https://www.tu-dortmund.de/veranstaltungsdetail/xpositionen-06-2026-63122/
SUMMARY:Abenteuer Inszenierung. Drei Ausstellungsformate zu aktueller Mode und alter Malerei in der Berliner Gemäldegalerie
END:VEVENT
END:VCALENDAR
