BEGIN:VCALENDAR
VERSION:2.0
PRODID:-//TYPO3/NONSGML News system (news)//EN
BEGIN:VEVENT
TZID:Central Europe Standard Time
UID:news-63053@www.tu-dortmund.de
DTSTAMP:20260422T073918Z

DTSTART:20260713T193000
DTEND:20260713T210000


LOCATION:Augustinum Dortmund, Kirchhörderstr. 101, 44229 Dortmund

DESCRIPTION:https://www.tu-dortmund.de/veranstaltungsdetail/floetenklang-zur-abendstunde-3-2-63053/
SUMMARY:Flötenklang zur Abendstunde
END:VEVENT
END:VCALENDAR
